BEGIN:VCALENDAR
VERSION:2.0
PRODID:-//Vinomimosas - ECPv6.15.20//NONSGML v1.0//EN
CALSCALE:GREGORIAN
METHOD:PUBLISH
X-WR-CALNAME:Vinomimosas
X-ORIGINAL-URL:https://vinomimosas.fr
X-WR-CALDESC:Évènements pour Vinomimosas
REFRESH-INTERVAL;VALUE=DURATION:PT1H
X-Robots-Tag:noindex
X-PUBLISHED-TTL:PT1H
BEGIN:VTIMEZONE
TZID:Europe/Paris
BEGIN:DAYLIGHT
TZOFFSETFROM:+0100
TZOFFSETTO:+0200
TZNAME:CEST
DTSTART:20220327T010000
END:DAYLIGHT
BEGIN:STANDARD
TZOFFSETFROM:+0200
TZOFFSETTO:+0100
TZNAME:CET
DTSTART:20221030T010000
END:STANDARD
BEGIN:DAYLIGHT
TZOFFSETFROM:+0100
TZOFFSETTO:+0200
TZNAME:CEST
DTSTART:20230326T010000
END:DAYLIGHT
BEGIN:STANDARD
TZOFFSETFROM:+0200
TZOFFSETTO:+0100
TZNAME:CET
DTSTART:20231029T010000
END:STANDARD
BEGIN:DAYLIGHT
TZOFFSETFROM:+0100
TZOFFSETTO:+0200
TZNAME:CEST
DTSTART:20240331T010000
END:DAYLIGHT
BEGIN:STANDARD
TZOFFSETFROM:+0200
TZOFFSETTO:+0100
TZNAME:CET
DTSTART:20241027T010000
END:STANDARD
BEGIN:DAYLIGHT
TZOFFSETFROM:+0100
TZOFFSETTO:+0200
TZNAME:CEST
DTSTART:20250330T010000
END:DAYLIGHT
BEGIN:STANDARD
TZOFFSETFROM:+0200
TZOFFSETTO:+0100
TZNAME:CET
DTSTART:20251026T010000
END:STANDARD
END:VTIMEZONE
BEGIN:VEVENT
DTSTART;TZID=Europe/Paris:20240618T193000
DTEND;TZID=Europe/Paris:20240618T213000
DTSTAMP:20260425T201544
CREATED:20230731T090718Z
LAST-MODIFIED:20260308T175243Z
UID:10000081-1718739000-1718746200@vinomimosas.fr
SUMMARY:Accords inattendus Vins & Fromages
DESCRIPTION:C’est un sacré casse-tête\, de savoir quel vin choisir pour accompagner au mieux son plateau de fromages ! Pendant très longtemps\, les choses semblaient simples : qui disait fromage\, disait vin rouge. Et corsé\, de préférence ! \n\n\n\nAujourd’hui\, les choses ont changé\, on s’est aperçu que ce n’est pas forcément le cas. Que le vin blanc se marie bien mieux avec la majorité des fromages. Les accords Fromages & Vins blancs sont devenus une nouvelle norme. Le sauvignon avec le chèvre\, le chardonnay avec le comté\, le moelleux avec le roquefort\, sont des mariages incontournables. \n\n\n\nEt si on essayait encore autre chose? Trouver des accords un peu moins attendus? Pourquoi ne pas tenter le rosé\, le vin orange\, les bulles\, le saké\, un vin espagnol ou polonais\, un vin autrichien ou grec\, etc… Une carte blanche à de nouvelles idées\, une ouverture à des accords insolites. \n\n\n\n \n\n\n\nVins dégustés : 5 ou 6 vins dégustés à l’aveugle\, en accord ou désaccord avec 3 ou 4 fromages. \n\n\n\n\n\n\n\n\n\nSi il n’y a plus de place disponible et que vous souhaitez vous inscrire en liste d’attente\, contactez-moi directement.
URL:https://vinomimosas.fr/reservation/accords-inattendus-vins-fromages/
LOCATION:Résidence « Stella »\, 4 rue Diderot\, Suresnes\, 92150\, France
CATEGORIES:Ateliers Oenologiques,Premium
ORGANIZER;CN="Vins en Seine":MAILTO:contact@vins-en-seine.fr
END:VEVENT
BEGIN:VEVENT
DTSTART;TZID=Europe/Paris:20240514T193000
DTEND;TZID=Europe/Paris:20240514T213000
DTSTAMP:20260425T201544
CREATED:20230731T090308Z
LAST-MODIFIED:20230819T185046Z
UID:10000080-1715715000-1715722200@vinomimosas.fr
SUMMARY:« Grand » ou « petit » vin : verrez-vous la différence?
DESCRIPTION:De quoi parle-t-on lorsqu’on évoque « un petit vin » ou « un grand vin »? S’agit-il du prix ou de la qualité? Est-il aisé de définir duquel il s’agit lors de la dégustation\, sans connaître ni le prix\, ni l’étiquette? Le tarif d’un vin est-il toujours une gage de qualité? Et une belle appellation ? Mais surtout et avant tout\, lorsqu’on déguste un vin « entrée de gamme » chez un vigneron et sa « belle cuvée »\, peut-on toujours voir la différence? Cela vaut-il le « coup » de payer plus cher?   \n\n\n\nGoûter une sélection de vins aux prix très variés vous permettra de répondre à toutes ces questions et vous faire votre propre idée sur le rapport entre le prix et la qualité d’un vin.   \n\n\n\nVins dégustés : 5 ou 6 vins dégustés à l’aveugle  \n\n\n\n\n\n\n\n\n\nSi il n’y a plus de place disponible et que vous souhaitez vous inscrire en liste d’attente\, contactez-moi directement.
URL:https://vinomimosas.fr/reservation/grand-ou-petit-vin-verrez-vous-la-difference/
LOCATION:Résidence « Stella »\, 4 rue Diderot\, Suresnes\, 92150\, France
CATEGORIES:Ateliers Oenologiques,Premium
ATTACH;FMTTYPE=image/jpeg:https://vinomimosas.fr/wp-content/uploads/2023/07/pres-de-dix-millions-deuros-vente-aux-encheres-historique-pour-le-plus-petit-des-grands-crus-de-bourgogne-1400486.jpg
ORGANIZER;CN="Vins en Seine":MAILTO:contact@vins-en-seine.fr
END:VEVENT
BEGIN:VEVENT
DTSTART;TZID=Europe/Paris:20240423T193000
DTEND;TZID=Europe/Paris:20240423T213000
DTSTAMP:20260425T201544
CREATED:20230731T085347Z
LAST-MODIFIED:20260308T175500Z
UID:10000079-1713900600-1713907800@vinomimosas.fr
SUMMARY:Vins insolites et étonnants
DESCRIPTION:Le vin\, bien évidemment\, ne se résume pas à un seul goût\, un style\, un profil. \n\n\n\nMais il y a des « classiques » dont on a l’habitude et qu’on reconnaît aisément – ils ont quelque chose de rassurant. Et il y a ceux qui sortent de l’ordinaire\, qui peuvent surprendre et étonner. Ils peuvent plaire ou déplaire\, mais quoi qu’il en soit\, ils montrent qu’il y a une multitude de possibilités dans l’univers du vin et qu’on peut y découvrir des choses très intéressantes auxquelles on ne s’attendait pas. \n\n\n\nCes vins étonnants et insolites\, de quoi s’agit-il?  \n\n\n\nCe sont peut-être des vins faits avec des cépages oubliés\, ou des vins dans les appellations méconnues… Ou encore des vins oranges\, oxydatifs\, nature\, … ? Il y a une variété incroyable dans le monde du vin ; partir à sa découverte c’est accepter de s’éloigner des sentiers battus ! \n\n\n\nVins dégustés : 5 ou 6 vins dégustés à l’aveugle  \n\n\n\n\n\n\n\n\n\nSi il n’y a plus de place disponible et que vous souhaitez vous inscrire en liste d’attente\, contactez-moi directement.
URL:https://vinomimosas.fr/reservation/vins-insolites-et-etonnants/
LOCATION:Résidence « Stella »\, 4 rue Diderot\, Suresnes\, 92150\, France
CATEGORIES:Ateliers Oenologiques,Premium
ORGANIZER;CN="Vins en Seine":MAILTO:contact@vins-en-seine.fr
END:VEVENT
BEGIN:VEVENT
DTSTART;TZID=Europe/Paris:20240319T193000
DTEND;TZID=Europe/Paris:20240319T213000
DTSTAMP:20260425T201544
CREATED:20230731T085053Z
LAST-MODIFIED:20230819T181454Z
UID:10000078-1710876600-1710883800@vinomimosas.fr
SUMMARY:Casser les idées reçus !
DESCRIPTION:On a tous certaines idées sur le vin et sur la manière de le consommer. Mais est-ce toujours exacte?  \n\n\n\nEst-il vrai que le vin blanc ne se garde pas? Qu’il ne faut pas mélanger les couleurs dans le même repas? Que le fromage se marie bien avec le vin rouge? Que le vin moelleux accompagne bien le foie gras? Que les vins d’Alsace sont sucrés? Que le Champagne se boit frappé? Ou que le vin bio est un vin sans sulfites? Que le Beaujolais a le goût de la banane? Ou que le bouchon à vis signifie que le vin est de piètre qualité?…  \n\n\n\nCela\, et bien d’autres idées qui circulent couramment\, nous allons les regarder de près pour se poser de bonnes questions et trouver des réponses. \n\n\n\n \n\n\n\nVins dégustés : 5 ou 6 vins dégustés à l’aveugle  \n\n\n\n\n\n\n\n\n\nSi il n’y a plus de place disponible et que vous souhaitez vous inscrire en liste d’attente\, contactez-moi directement.
URL:https://vinomimosas.fr/reservation/casser-les-codes-recus/
LOCATION:Résidence « Stella »\, 4 rue Diderot\, Suresnes\, 92150\, France
CATEGORIES:Ateliers Oenologiques,Premium
ATTACH;FMTTYPE=image/jpeg:https://vinomimosas.fr/wp-content/uploads/2023/07/15d43aef6c8a5134e1fc00a9c98b8ab0_XL.jpg
ORGANIZER;CN="Vins en Seine":MAILTO:contact@vins-en-seine.fr
END:VEVENT
BEGIN:VEVENT
DTSTART;TZID=Europe/Paris:20240227T193000
DTEND;TZID=Europe/Paris:20240227T213000
DTSTAMP:20260425T201544
CREATED:20230731T084716Z
LAST-MODIFIED:20230819T094149Z
UID:10000077-1709062200-1709069400@vinomimosas.fr
SUMMARY:Bordeaux : Rive gauche vs Rive droite
DESCRIPTION:L’une des régions viticoles les plus connues dans le monde\, Bordeaux\, n’est pas si homogène que cela aurait pû paraître. On oppose souvent ses 2 sous-parties : Rive gauche et Rive droite. Pour quelle raison? Qu’est-ce qui les différencie? Avons-nous le même style de vins des 2 côtés? Quels sont les cépages qu’on y cultive ? Quelles sont les principales appellations? Comment se retrouver parmi les Médoc\, les Graves et autres Pomerol\, Saint-Emilion\, Saint-Estèphe\, … ? Quid des vins blancs?  \n\n\n\nEt vous\, êtes-vous plutôt Rive gauche ou Rive droite?     \n\n\n\n \n\n\n\nVins dégustés : 5 ou 6 vins dégustés à l’aveugle  \n\n\n\n\n\n\n\n\n\nSi il n’y a plus de place disponible et que vous souhaitez vous inscrire en liste d’attente\, contactez-moi directement.
URL:https://vinomimosas.fr/reservation/bordeaux-rive-gauche-vs-rive-droite/
LOCATION:Résidence « Stella »\, 4 rue Diderot\, Suresnes\, 92150\, France
CATEGORIES:Ateliers Oenologiques,Premium
ATTACH;FMTTYPE=image/jpeg:https://vinomimosas.fr/wp-content/uploads/2023/07/280px-Petrus04.jpg
ORGANIZER;CN="Vins en Seine":MAILTO:contact@vins-en-seine.fr
END:VEVENT
BEGIN:VEVENT
DTSTART;TZID=Europe/Paris:20240130T193000
DTEND;TZID=Europe/Paris:20240130T213000
DTSTAMP:20260425T201544
CREATED:20230731T084234Z
LAST-MODIFIED:20230818T140205Z
UID:10000076-1706643000-1706650200@vinomimosas.fr
SUMMARY:Cépages rares\, oubliés ou peu connus
DESCRIPTION:Alors que tout le monde (ou presque) connait le Chardonnay\, Pinot noir\, Sauvignon\, Merlot ou Syrah (et tant mieux\, car ce sont de beaux cépages)\, saviez-vous qu’il existe en France pas moins de 200 cépages autorisés pour produire du vin ? Et que l’on répertorie plus de 6000 cépages dans le monde entier ?…Alors pourquoi se restreindre aux quelques heureux élus? \n\n\n\n \n\n\n\nVins dégustés : 5 ou 6 vins dégustés à l’aveugle  \n\n\n\n\n\n\n\n\n\nSi il n’y a plus de place disponible et que vous souhaitez vous inscrire en liste d’attente\, contactez-moi directement.
URL:https://vinomimosas.fr/reservation/cepages-rares-oublies-ou-peu-connus/
LOCATION:Résidence « Stella »\, 4 rue Diderot\, Suresnes\, 92150\, France
CATEGORIES:Ateliers Oenologiques,Premium
ATTACH;FMTTYPE=image/png:https://vinomimosas.fr/wp-content/uploads/2022/10/Sans-titre-500-×-333-px-13.png
ORGANIZER;CN="Vins en Seine":MAILTO:contact@vins-en-seine.fr
END:VEVENT
BEGIN:VEVENT
DTSTART;TZID=Europe/Paris:20231212T193000
DTEND;TZID=Europe/Paris:20231212T213000
DTSTAMP:20260425T201544
CREATED:20230731T082838Z
LAST-MODIFIED:20230818T135559Z
UID:10000074-1702409400-1702416600@vinomimosas.fr
SUMMARY:Vins de fêtes ou vignerons d’exception
DESCRIPTION:Il existe des vins qu’il faut goûter au moins une fois dans sa vie. Des vins d’appellations prestigieuses\, ou produits par des vignerons exceptionnels et qu’on aimerait tous découvrir. Bien évidemment\, on ne parle pas d’un Château Yquem ou d’un Romanée Conti\, des vins plus mythiques qu’accessibles. Mais vous allez pouvoir découvrir quelques perles rares\, des vins prestigieux\, que j’ai sélectionné pour cette séance très spéciale. \n\n\n\nVins dégustés : 5 ou 6 vins dégustés à l’aveugle  \n\n\n\n\n\n\n\n\n\nSi il n’y a plus de place disponible et que vous souhaitez vous inscrire en liste d’attente\, contactez-moi directement.
URL:https://vinomimosas.fr/reservation/vins-de-fetes-ou-vignerons-dexception/
LOCATION:Résidence « Stella »\, 4 rue Diderot\, Suresnes\, 92150\, France
CATEGORIES:Ateliers Oenologiques,Premium
ATTACH;FMTTYPE=image/jpeg:https://vinomimosas.fr/wp-content/uploads/2022/11/WS1.jpg
ORGANIZER;CN="Vins en Seine":MAILTO:contact@vins-en-seine.fr
END:VEVENT
BEGIN:VEVENT
DTSTART;TZID=Europe/Paris:20231128T193000
DTEND;TZID=Europe/Paris:20231128T213000
DTSTAMP:20260425T201544
CREATED:20230731T082353Z
LAST-MODIFIED:20260308T175615Z
UID:10000073-1701199800-1701207000@vinomimosas.fr
SUMMARY:Les bulles : Champagne et autres effervescents
DESCRIPTION:A l’approche des fêtes de fin d’année\, c’est l’occasion d’apprendre un peu plus sur le Champagne et sur d’autres vins effervescents afin de pouvoir mieux les choisir et mieux les apprécier lors d’une dégustation. \n\n\n\nAmateurs de bulles\, accros au Champagne\, ou curieux de découvrir et de comparer plusieurs effervescents\, cette séance est faite pour vous !  \n\n\n\nComment produit-on un vin effervescent ? \n\n\n\nQu’est-ce qui différencie un Champagne d’un Crémant /Prosecco / Cava ou d’un autre vin qui pétille ? Saurez-vous les reconnaître lors d’une dégustation à l’aveugle ? \n\n\n\nQuelles sont les catégories d’un Champagne ? Comment le choisir ? Comment le déguster ? Avec quoi l’associer ? A quelle température le servir ? C’est quoi le dosage ? \n\n\n\nEtes-vous plutôt Blanc de Blancs ou Blanc de Noirs ? Préférez-vous un Champagne Brut / Extra-Brut / Brut Nature ? Les bulles fines ont-elles de l’importance et d’où elles viennent ? \n\n\n\nUn Champagne est-il vraiment meilleur qu’un Crémant ? Qu’est-ce qui justifie son prix ? \n\n\n\n \n\n\n\nVins dégustés : 5 ou 6 vins effervescents dégustés à l’aveugle  \n\n\n\n\n\n\n\n\n\nSi il n’y a plus de place disponible et que vous souhaitez vous inscrire en liste d’attente\, contactez-moi directement.
URL:https://vinomimosas.fr/reservation/les-bulles-champagne-et-autres-effervescents/
LOCATION:Résidence « Stella »\, 4 rue Diderot\, Suresnes\, 92150\, France
CATEGORIES:Ateliers Oenologiques,Premium
ORGANIZER;CN="Vins en Seine":MAILTO:contact@vins-en-seine.fr
END:VEVENT
BEGIN:VEVENT
DTSTART;TZID=Europe/Paris:20231010T193000
DTEND;TZID=Europe/Paris:20231010T213000
DTSTAMP:20260425T201544
CREATED:20230730T154733Z
LAST-MODIFIED:20230818T132839Z
UID:10000071-1696966200-1696973400@vinomimosas.fr
SUMMARY:Tout ce que vous devez savoir sur les vins blancs
DESCRIPTION:Tout ce que vous avez toujours voulu savoir sur le vin blanc. \n\n\n\nComment produit-on un vin blanc? Qu’est-ce qui le différencie d’un rouge? Comment distinguer la minéralité\, les arômes floraux ou fruités? \n\n\n\nQuels sont les différents styles\, types\, goûts qu’on peut avoir en dégustant un vin blanc ? \n\n\n\nQuels cépages utilise-t-on et dans quelles régions? \n\n\n\nComment servir les vins blancs? Comment les conserver? Combien de temps peut-on le garder? Avec quoi les marier?\, … \n\n\n\nUn atelier oenologique pour faire un point sur l’univers des vins blancs aussi bien pour apprendre les bases que pour approfondir ses connaissances. \n\n\n\n \n\n\n\nVins dégustés : 5 ou 6 vins blancs dégustés à l’aveugle  \n\n\n\n\n\n\n\n\n\nSi il n’y a plus de place disponible et que vous souhaitez vous inscrire en liste d’attente\, contactez-moi directement.
URL:https://vinomimosas.fr/reservation/tout-ce-que-vous-devez-savoir-sur-les-vins-blancs/
LOCATION:Résidence « Stella »\, 4 rue Diderot\, Suresnes\, 92150\, France
CATEGORIES:Ateliers Oenologiques,Premium
ATTACH;FMTTYPE=image/jpeg:https://vinomimosas.fr/wp-content/uploads/2023/07/119820451_355619222486153_7328630594805992100_n.jpg
ORGANIZER;CN="Vins en Seine":MAILTO:contact@vins-en-seine.fr
END:VEVENT
BEGIN:VEVENT
DTSTART;TZID=Europe/Paris:20230926T193000
DTEND;TZID=Europe/Paris:20230926T213000
DTSTAMP:20260425T201544
CREATED:20230731T081641Z
LAST-MODIFIED:20230817T111742Z
UID:10000072-1695756600-1695763800@vinomimosas.fr
SUMMARY:Tout ce que vous devez savoir sur les vins rouges
DESCRIPTION:Tout ce que vous avez toujours voulu savoir sur le vin rouge. \n\n\n\nComment produit-on un vin rouge? Qu’est-ce qui le différencie d’un blanc? C’est quoi les tanins et à quoi servent-ils? \n\n\n\nQuels sont les différents styles\, types\, goûts qu’on peut avoir en dégustant un vin rouge ?  \n\n\n\nQuels cépages utilise-t-on et dans quelles régions?  \n\n\n\nComment servir les vins rouges? Comment les conserver? Combien de temps peut-on le garder? Avec quoi les marier?\, … \n\n\n\nUn atelier oenologique pour faire un point sur l’univers des vins rouges aussi bien pour apprendre les bases que pour approfondir ses connaissances. \n\n\n\nVins dégustés : 5 ou 6 vins rouges  dégustés à l’aveugle  \n\n\n\n\n\n\n\n\n\nSi il n’y a plus de place disponible et que vous souhaitez vous inscrire en liste d’attente\, contactez-moi directement.
URL:https://vinomimosas.fr/reservation/tout-ce-que-vous-devez-savoir-sur-les-vins-rouges/
LOCATION:Résidence « Stella »\, 4 rue Diderot\, Suresnes\, 92150\, France
CATEGORIES:Ateliers Oenologiques,Premium
ATTACH;FMTTYPE=image/jpeg:https://vinomimosas.fr/wp-content/uploads/2023/07/71058860-2048x2048-1.jpg
ORGANIZER;CN="Vins en Seine":MAILTO:contact@vins-en-seine.fr
END:VEVENT
END:VCALENDAR