BEGIN:VCALENDAR
VERSION:2.0
PRODID:-//Vinomimosas - ECPv6.15.20//NONSGML v1.0//EN
CALSCALE:GREGORIAN
METHOD:PUBLISH
X-WR-CALNAME:Vinomimosas
X-ORIGINAL-URL:https://vinomimosas.fr
X-WR-CALDESC:Évènements pour Vinomimosas
REFRESH-INTERVAL;VALUE=DURATION:PT1H
X-Robots-Tag:noindex
X-PUBLISHED-TTL:PT1H
BEGIN:VTIMEZONE
TZID:Europe/Paris
BEGIN:DAYLIGHT
TZOFFSETFROM:+0100
TZOFFSETTO:+0200
TZNAME:CEST
DTSTART:20220327T010000
END:DAYLIGHT
BEGIN:STANDARD
TZOFFSETFROM:+0200
TZOFFSETTO:+0100
TZNAME:CET
DTSTART:20221030T010000
END:STANDARD
BEGIN:DAYLIGHT
TZOFFSETFROM:+0100
TZOFFSETTO:+0200
TZNAME:CEST
DTSTART:20230326T010000
END:DAYLIGHT
BEGIN:STANDARD
TZOFFSETFROM:+0200
TZOFFSETTO:+0100
TZNAME:CET
DTSTART:20231029T010000
END:STANDARD
BEGIN:DAYLIGHT
TZOFFSETFROM:+0100
TZOFFSETTO:+0200
TZNAME:CEST
DTSTART:20240331T010000
END:DAYLIGHT
BEGIN:STANDARD
TZOFFSETFROM:+0200
TZOFFSETTO:+0100
TZNAME:CET
DTSTART:20241027T010000
END:STANDARD
END:VTIMEZONE
BEGIN:VEVENT
DTSTART;TZID=Europe/Paris:20230413T193000
DTEND;TZID=Europe/Paris:20230413T213000
DTSTAMP:20260423T104009
CREATED:20230326T154801Z
LAST-MODIFIED:20260308T180002Z
UID:10000065-1681414200-1681421400@vinomimosas.fr
SUMMARY:Atelier Vigneron : "Champagnes & Fromages"\, avec Nicolas Osio (Champagne Charpentier)
DESCRIPTION:Saviez-vous que les Champagnes se mariaient très bien avec les fromages?  \n\n\n\nQue Champagne n’est pas seulement le nectar des apéritifs ou des cocktails dinatoires?  \n\n\n\nBien évidemment\, il est possible de construire tout un repas autour du Champagne\, mais cette fois-ci on va faire le focus sur l’association avec les fromages. \n\n\n\nAvec chaque Champagne\, un accord différent vous sera proposé. Parce qu’un Blanc de Blancs\, un Blanc de Noirs\, une cuvée d’assemblage\, un Champagne rosé\, ou un pur Pinot meunier non dosé n’ont pas tous la même expression et ne se marient pas avec le même produit. \n\n\n\nVenez découvrir l’univers des Champagnes de vigneron\, ceux de Jean-Marc Charpentier\, qui travaille en bio et en biodynamie et notamment de sa gamme prestigieuse\, Terre d’Emotion. Nicolas Osio\, son ambassadeur\, sera avec nous pour tout vous expliquer sur la production de ces Champagnes et sur ses accords avec les fromages. Un moment privilégié à ne pas rater. \n\n\n\n  \n\n\n\nVins dégustés : 5-6 Champagnes de Jean-Marc Charpentier\, en accord avec les fromages. \n\n\n\nPour cet atelier exceptionnel\, le tarif « Découverte » (offre de Bienvenue) n’est pas applicable. \n\n\n\n\n\n\n\n\n\n\n\n\n\nSi il n’y a plus de place disponible et que vous souhaitez vous inscrire en liste d’attente\, contactez-moi directement. \n\n\n\n \n\n\n\n\n\nQu’allons-nous aborder ? \n\n\n\nLors de cet atelier exceptionnel\, vous pourrez : \n\n\n\n\n – Découvrir les Champagnes de Jean-Marc Charpentier\, dans la Vallée de la Marne\, présenté par Nicolas Osio\, son ambassadeur\n\n\n\n\n\n\n\n– Déguster les Champagnes en accord avec les fromages\n\n\n\n\n\n\n\n– Échanger avec Nicolas qui vous expliquera absolument tout sur les Champagnes\, leur production et leur dégustation !\n\n\n\n\n\n\n\n\n\n– Commander par la suite\, si vous le souhaitez\, les Champagnes Charpentier\, au tarif domaine\n\n\n\n\n \n\n\n\nComment cela se passe ? \n\n\n\n \n\n\n\nDans une ambiance conviviale et décontractée\, Nicolas Osio va nous présenter les Champagnes Jean-Marc Charpentier et en particulier sa gamme Terre d’Emotion. Il nous expliquera le processus de vinification des Champagnes et les caractéristiques des différentes catégories : Blanc de Blancs\, Blanc de Noirs\, assemblage\, Rosé\, Pinot meunier non dosé\, … Vous allez déguster chaque cuvée en accord avec un fromage différent. \n\n\n\nCeux qui le souhaiteront auront la possibilité de commander les Champagnes Charpentier au tarif domaine.  \n\n\n\nGroupe limité à 16 personnes maximum.
URL:https://vinomimosas.fr/reservation/atelier-vigneron-champagnes-fromages-avec-nicolas-osio-champagne-charpentier/
LOCATION:Hotel Mercure – Suresnes\, 30 avenue du Général de Gaulle\, Suresnes\, 92150\, France
CATEGORIES:Ateliers Oenologiques,Premium
ORGANIZER;CN="Vins en Seine":MAILTO:contact@vins-en-seine.fr
END:VEVENT
END:VCALENDAR